BEGIN:VCALENDAR
VERSION:2.0
PRODID:-//AudioTheme 2.3.2
BEGIN:VEVENT
UID:urn:uuid:41e2221f-7298-4643-9e39-7699e462b56a
URL:https://carly-e.com/shows/red-light-jazz/
DTSTART;TZID=GMT:20170602T000000
SUMMARY:Red Light Jazz
DESCRIPTION:Solo sound
LOCATION:Winston Kingdom\, Warmoesstraat 131\, Amsterdam\, 
END:VEVENT
END:VCALENDAR
