BEGIN:VCALENDAR
VERSION:2.0
PRODID:-//AudioTheme 2.3.2
BEGIN:VEVENT
UID:urn:uuid:a72ad321-424a-4bdb-9260-c485db1b7320
URL:https://carly-e.com/shows/red-light-jazz-festival-carly-e-solo/
DTSTART;TZID=GMT:20190609T000000
SUMMARY:Red Light Jazz Festival | Solo Perfomance
DESCRIPTION:Solo sound
LOCATION:Condomerie\, Amsterdam\, 
END:VEVENT
END:VCALENDAR
