BEGIN:VCALENDAR
VERSION:2.0
PRODID:-//AudioTheme 2.3.2
BEGIN:VEVENT
UID:urn:uuid:1f94a118-f55f-4ec1-b675-f84db32a0b99
URL:https://carly-e.com/shows/ramblas-nijmeegse-vierdaagse/
DTSTART;TZID=GMT:20180715T000000
SUMMARY:Ramblas Nijmeegse Vierdaagse
DESCRIPTION:Solo sound
LOCATION:Ramblas Nijmeegse Vierdaagse\, Nijmegen\, 
END:VEVENT
END:VCALENDAR
