BEGIN:VCALENDAR
VERSION:2.0
PRODID:-//AudioTheme 2.3.2
BEGIN:VEVENT
UID:urn:uuid:a1713ff9-a53a-4234-b653-39b59c673329
URL:https://carly-e.com/shows/radio-omroep-zuidplas-taste-of-music/
DTSTART;TZID=GMT:20161208T000000
SUMMARY:Radio Omroep Zuidplas Taste of Music
DESCRIPTION:Solo sound. Interview and live radio performance. 
LOCATION:Radio omroep Zuidplas\, Pr. Beatrixstraat 2\, Nieuwerkerk aan den IJssel\, 
END:VEVENT
END:VCALENDAR
