BEGIN:VCALENDAR
VERSION:2.0
PRODID:-//AudioTheme 2.3.2
BEGIN:VEVENT
UID:urn:uuid:284d8ef0-e420-43b7-a6c8-9106c3403f6a
URL:https://carly-e.com/shows/qru-amsterdam-lig-luister/
DTSTART;TZID=GMT:20190905T180000
SUMMARY:QRU Amsterdam | Lig & Luister
DESCRIPTION:Solo sound -Triple bill 
LOCATION:QRU Amsterdam\, Cruquiusweg 142\, Amsterdam\, 
END:VEVENT
END:VCALENDAR
