BEGIN:VCALENDAR
VERSION:2.0
PRODID:-//AudioTheme 2.3.2
BEGIN:VEVENT
UID:urn:uuid:6f9c0a0b-f980-42bf-8b37-19895699bac5
URL:https://carly-e.com/shows/private-garden-concert/
DTSTART;TZID=GMT:20220925T000000
SUMMARY:Private Garden Concert
DESCRIPTION:Solo sound (EN)
LOCATION:Sint Nicolaasga\, Sint Nicolaasga\, \, 8521NE
END:VEVENT
END:VCALENDAR
