BEGIN:VCALENDAR
VERSION:2.0
PRODID:-//AudioTheme 2.3.2
BEGIN:VEVENT
UID:urn:uuid:f33f158d-2928-4991-bb04-11e33733c243
URL:https://carly-e.com/shows/private-event/
DTSTART;TZID=GMT:20190118T000000
SUMMARY:Private Event
DESCRIPTION:Solo Sound.
LOCATION:Onze Joost\, Amsterdam\, 
END:VEVENT
END:VCALENDAR
