BEGIN:VCALENDAR
VERSION:2.0
PRODID:-//AudioTheme 2.3.2
BEGIN:VEVENT
UID:urn:uuid:26f9a4c4-6af0-4512-8ad8-19443350fbad
URL:https://carly-e.com/shows/private-event-wedding-party/
DTSTART;TZID=GMT:20221212T000000
SUMMARY:Private event | Wedding party
DESCRIPTION:Solo sound (EN)
LOCATION:Miss Central\, Alkmaar\, 
END:VEVENT
END:VCALENDAR
