BEGIN:VCALENDAR
VERSION:2.0
PRODID:-//AudioTheme 2.3.2
BEGIN:VEVENT
UID:urn:uuid:ae11420d-6c08-4043-b2c7-1e095945dd20
URL:https://carly-e.com/shows/private-event-sint-nicolaasga/
DTSTART;TZID=GMT:20190601T000000
SUMMARY:Private Event
DESCRIPTION:Solo Sound
LOCATION:Private Event\, Sint Nicolaasga\, 
END:VEVENT
END:VCALENDAR
