BEGIN:VCALENDAR
VERSION:2.0
PRODID:-//AudioTheme 2.3.2
BEGIN:VEVENT
UID:urn:uuid:b9e3336d-d0d1-4413-9553-2656698f99cb
URL:https://carly-e.com/shows/private-event-fmo-banking/
DTSTART;TZID=GMT:20170622T000000
SUMMARY:Private event FMO Banking
DESCRIPTION:Carly E. & her Band
LOCATION:De Glazen Zaal\, Den Haag\, 
END:VEVENT
END:VCALENDAR
