BEGIN:VCALENDAR
VERSION:2.0
PRODID:-//AudioTheme 2.3.2
BEGIN:VEVENT
UID:urn:uuid:b58c6585-90b6-42d7-a0fe-6ce70c02b032
URL:https://carly-e.com/shows/private-event-3/
DTSTART;TZID=GMT:20170921T000000
SUMMARY:Private Event
DESCRIPTION:Carly E. & her band
LOCATION:Tropenmuseum\, Amsterdam\, 
END:VEVENT
END:VCALENDAR
