BEGIN:VCALENDAR
VERSION:2.0
PRODID:-//AudioTheme 2.3.2
BEGIN:VEVENT
UID:urn:uuid:30da471b-b383-4600-9ac5-a4922d7cd0d9
URL:https://carly-e.com/shows/private-event-2/
DTSTART;TZID=GMT:20181124T000000
SUMMARY:Private Event
DESCRIPTION:Carly E. Band
LOCATION:Private event\, Lelystad\, 
END:VEVENT
END:VCALENDAR
