BEGIN:VCALENDAR
VERSION:2.0
PRODID:-//AudioTheme 2.3.2
BEGIN:VEVENT
UID:urn:uuid:4e792d0c-89d9-49ee-92c2-469f56667eae
URL:https://carly-e.com/shows/private-concert/
DTSTART;TZID=GMT:20200126T000000
SUMMARY:Private concert
DESCRIPTION:Solo sound
LOCATION:Kasteel Wijenburg\, Echteld\, 
END:VEVENT
END:VCALENDAR
