BEGIN:VCALENDAR
VERSION:2.0
PRODID:-//AudioTheme 2.3.2
BEGIN:VEVENT
UID:urn:uuid:78e920cd-757a-4fe8-9f3d-e25bf381babc
URL:https://carly-e.com/shows/private-concert-2/
DTSTART;TZID=GMT:20190921T000000
SUMMARY:Private concert
DESCRIPTION:Solo sound
LOCATION:Sint Nicolaasga\, Sint Nicolaasga\, \, 8521NE
END:VEVENT
END:VCALENDAR
