BEGIN:VCALENDAR
VERSION:2.0
PRODID:-//AudioTheme 2.3.2
BEGIN:VEVENT
UID:urn:uuid:5d5f23c9-dae5-40cd-987d-381f79371999
URL:https://carly-e.com/shows/presentacion-del-libro-nina-escorpio-de-victoria/
DTSTART;VALUE=DATE:20160617
SUMMARY:Presentación del libro Niña Escorpio de Victoria
DESCRIPTION:Solo sound
LOCATION:La Gran Jaime\, Buenos Aires\, 
END:VEVENT
END:VCALENDAR
