BEGIN:VCALENDAR
VERSION:2.0
PRODID:-//AudioTheme 2.3.2
BEGIN:VEVENT
UID:urn:uuid:1bf707ab-cb61-43f9-be9c-61de34edee67
URL:https://carly-e.com/shows/pllek/
DTSTART;TZID=GMT:20170605T000000
SUMMARY:Pllek
DESCRIPTION:Carly E. & her band
LOCATION:Pllek Live Stage\, t.t. Neveritaweg 59\, Amsterdam\, 
END:VEVENT
END:VCALENDAR
