BEGIN:VCALENDAR
VERSION:2.0
PRODID:-//AudioTheme 2.3.2
BEGIN:VEVENT
UID:urn:uuid:4633fbfe-6268-4b16-9040-e63d3ad3a3a0
URL:https://carly-e.com/shows/plankgasten/
DTSTART;TZID=GMT:20180217T000000
SUMMARY:Plankgasten
DESCRIPTION:Solo sound
LOCATION:CREA\, Amsterdam\, 
END:VEVENT
END:VCALENDAR
