BEGIN:VCALENDAR
VERSION:2.0
PRODID:-//AudioTheme 2.3.2
BEGIN:VEVENT
UID:urn:uuid:0b073510-0f73-42af-a2dc-636f64e9a183
URL:https://carly-e.com/shows/plankfest/
DTSTART;TZID=GMT:20180616T000000
SUMMARY:Plankfest
DESCRIPTION:Carly E. & her Band
LOCATION:CREA\, Amsterdam\, 
END:VEVENT
END:VCALENDAR
