BEGIN:VCALENDAR
VERSION:2.0
PRODID:-//AudioTheme 2.3.2
BEGIN:VEVENT
UID:urn:uuid:d8c7fa03-0105-4b72-8f84-72e90e9f1384
URL:https://carly-e.com/shows/pechakucha-night/
DTSTART;TZID=GMT:20170323T000000
SUMMARY:PechaKucha Night 
DESCRIPTION:Solo sound
LOCATION:Theater Gooiland\, Emmastraat 2\, Hilversum\, 
END:VEVENT
END:VCALENDAR
