BEGIN:VCALENDAR
VERSION:2.0
PRODID:-//AudioTheme 2.3.2
BEGIN:VEVENT
UID:urn:uuid:ec8a0810-4a4b-4f2c-bd12-16ed32a32ae9
URL:https://carly-e.com/shows/opening-kunstdagen/
DTSTART;TZID=GMT:20160802T000000
SUMMARY:Opening Kunstdagen
DESCRIPTION:Solo sound
LOCATION:Goedereede\, Goedereede\, 
END:VEVENT
END:VCALENDAR
