BEGIN:VCALENDAR
VERSION:2.0
PRODID:-//AudioTheme 2.3.2
BEGIN:VEVENT
UID:urn:uuid:0325a1ba-1e95-4e1a-b25a-105250bdab40
URL:https://carly-e.com/shows/open-folk-night/
DTSTART;TZID=GMT:20160217T000000
SUMMARY:Open Folk Night
DESCRIPTION:Solo sound
LOCATION:El Universal\, Buenos Aires\, \, Argentina
END:VEVENT
END:VCALENDAR
