BEGIN:VCALENDAR
VERSION:2.0
PRODID:-//AudioTheme 2.3.2
BEGIN:VEVENT
UID:urn:uuid:cf543c4b-0477-4511-958d-27187acfaf0e
URL:https://carly-e.com/shows/open-b-a-c/
DTSTART;TZID=GMT:20181106T193000
SUMMARY:Open B.A.C.
DESCRIPTION:Solo sound. 15 min set
LOCATION:Betty Asfalt Complex\, Nieuwezijds Voorburgwal 282\, Amsterdam\, \, Nederland\, 1012 RT
END:VEVENT
END:VCALENDAR
