BEGIN:VCALENDAR
VERSION:2.0
PRODID:-//AudioTheme 2.3.2
BEGIN:VEVENT
UID:urn:uuid:6c14fe90-b034-4e4b-bab5-f666e07a7e26
URL:https://carly-e.com/shows/open-b-a-c-met-paul-de-munnik/
DTSTART;TZID=GMT:20190305T193000
SUMMARY:Open B.A.C. met Paul de Munnik
DESCRIPTION:15 min solo set. Host: Paul de Munnik
LOCATION:Betty Asfalt Complex\, Nieuwezijds Voorburgwal 282\, Amsterdam\, \, Nederland\, 1012 RT
END:VEVENT
END:VCALENDAR
