BEGIN:VCALENDAR
VERSION:2.0
PRODID:-//AudioTheme 2.3.2
BEGIN:VEVENT
UID:urn:uuid:43a93171-9ccb-47de-a0ea-b00d0c3f2dcd
URL:https://carly-e.com/shows/open-b-a-c-2/
DTSTART;TZID=GMT:20171128T193000
SUMMARY:Open B.A.C.
DESCRIPTION:Solo sound
LOCATION:Betty Asfalt Complex\, Nieuwezijds Voorburgwal 282\, Amsterdam\, \, Nederland\, 1012 RT
END:VEVENT
END:VCALENDAR
