BEGIN:VCALENDAR
VERSION:2.0
PRODID:-//AudioTheme 2.3.2
BEGIN:VEVENT
UID:urn:uuid:1a8bab32-4937-4876-8a70-4cfff3257eec
URL:https://carly-e.com/shows/onder-de-schemerlamp/
DTSTART;TZID=GMT:20220522T000000
SUMMARY:Onder de Schemerlamp
DESCRIPTION:Solo sound
LOCATION:Koffiehuis De Goede Morgen\, Vinkenkade 75\, Vinkeveen\, 
END:VEVENT
END:VCALENDAR
