BEGIN:VCALENDAR
VERSION:2.0
PRODID:-//AudioTheme 2.3.2
BEGIN:VEVENT
UID:urn:uuid:0ebd0bcb-9af7-4b6a-9b7b-46d02ca52a10
URL:https://carly-e.com/shows/ofen-concerts-solo-performance/
DTSTART;TZID=GMT:20190504T000000
SUMMARY:Ofen Concerts | Solo Performance
DESCRIPTION:Solo sound
LOCATION:TBC\, Berlin\, 
END:VEVENT
END:VCALENDAR
