BEGIN:VCALENDAR
VERSION:2.0
PRODID:-//AudioTheme 2.3.2
BEGIN:VEVENT
UID:urn:uuid:bf348376-8640-40c3-87f0-19283be599b2
URL:https://carly-e.com/shows/notes-of-a-dirty-old-man/
DTSTART;TZID=GMT:20240227T000000
SUMMARY:Bar Bukowski | Notes of a dirty old man
DESCRIPTION:solo\, NL\, kleinkunst
LOCATION:Bar Bukowski\, Oosterpark 10\, Amsterdam\, 
END:VEVENT
END:VCALENDAR
