BEGIN:VCALENDAR
VERSION:2.0
PRODID:-//AudioTheme 2.3.2
BEGIN:VEVENT
UID:urn:uuid:a017e788-185c-4396-b614-79a1b730c7d5
URL:https://carly-e.com/shows/nieuwjaarsborrel/
DTSTART;TZID=GMT:20180101T000000
SUMMARY:Nieuwjaarsborrel
DESCRIPTION:Carly E. & her Band
LOCATION:Mata Hari\, Oudezijds Achterburgwal 22\, Amsterdam\, 
END:VEVENT
END:VCALENDAR
