BEGIN:VCALENDAR
VERSION:2.0
PRODID:-//AudioTheme 2.3.2
BEGIN:VEVENT
UID:urn:uuid:57467b0b-e263-4512-9033-27cbc43a69a8
URL:https://carly-e.com/shows/mattress-concert/
DTSTART;TZID=GMT:20190103T000000
SUMMARY:Mattress concert
DESCRIPTION:Solo sound
LOCATION:Performing Art Forum\, Saint Erme Outre et Ramecourt\, \, France
END:VEVENT
END:VCALENDAR
