BEGIN:VCALENDAR
VERSION:2.0
PRODID:-//AudioTheme 2.3.2
BEGIN:VEVENT
UID:urn:uuid:e1a2e8cf-57ea-4ce1-b64e-c148c48053a7
URL:https://carly-e.com/shows/marketing-event/
DTSTART;TZID=GMT:20160908T000000
SUMMARY:Marketing Event
DESCRIPTION:Solo sound
LOCATION:A Lab\, Amsterdam\, 
END:VEVENT
END:VCALENDAR
