BEGIN:VCALENDAR
VERSION:2.0
PRODID:-//AudioTheme 2.3.2
BEGIN:VEVENT
UID:urn:uuid:7632feed-1464-44b6-8b73-e30e42d0c259
URL:https://carly-e.com/shows/lullabye-sessions/
DTSTART;TZID=GMT:20160813T000000
SUMMARY:Lullabye Sessions
DESCRIPTION:Acoustic sound
LOCATION:The Lullabye Factory\, The Lullabye Factory\, Amsterdam\, 
END:VEVENT
END:VCALENDAR
