BEGIN:VCALENDAR
VERSION:2.0
PRODID:-//AudioTheme 2.3.2
BEGIN:VEVENT
UID:urn:uuid:96a05828-6abb-4c30-b64a-5b2519107940
URL:https://carly-e.com/shows/los-barcos-macabros/
DTSTART;TZID=GMT:20170609T000000
SUMMARY:Los Barcos Macabros
DESCRIPTION:Solo sound
LOCATION:De Ceuvel\, Korte Papaverweg 6c\, Amsterdam\, 
END:VEVENT
END:VCALENDAR
