BEGIN:VCALENDAR
VERSION:2.0
PRODID:-//AudioTheme 2.3.2
BEGIN:VEVENT
UID:urn:uuid:47609854-efa4-4585-a3e6-9881595eb249
URL:https://carly-e.com/shows/living-room-concert/
DTSTART;TZID=GMT:20180825T000000
SUMMARY:Living Room Concert
DESCRIPTION:Solo sound
LOCATION:Performing Art Forum\, Saint Erme Outre et Ramecourt\, \, France
END:VEVENT
END:VCALENDAR
