BEGIN:VCALENDAR
VERSION:2.0
PRODID:-//AudioTheme 2.3.2
BEGIN:VEVENT
UID:urn:uuid:04585b1e-26f8-4b50-985a-f691fb392735
URL:https://carly-e.com/shows/live-radio-show-amsterdam-fm/
DTSTART;TZID=GMT:20170518T000000
SUMMARY:Live Radio Show Amsterdam FM
DESCRIPTION:Solo sound
LOCATION:OBA\, Oosterdokskade 143\, Amsterdam\, 
END:VEVENT
END:VCALENDAR
