BEGIN:VCALENDAR
VERSION:2.0
PRODID:-//AudioTheme 2.3.2
BEGIN:VEVENT
UID:urn:uuid:623a16b0-bb3e-4d67-8365-a878ba80487d
URL:https://carly-e.com/shows/leith-society/
DTSTART;TZID=GMT:20161103T000000
SUMMARY:Leith Society
DESCRIPTION:Solo sound. Private event. 
LOCATION:The Dylan Hotel\, Keizersgracht 384\, Amsterdam\, 
END:VEVENT
END:VCALENDAR
