BEGIN:VCALENDAR
VERSION:2.0
PRODID:-//AudioTheme 2.3.2
BEGIN:VEVENT
UID:urn:uuid:2ef4a6e7-bee4-400e-ba37-0aca09fe5057
URL:https://carly-e.com/shows/leger-des-heils/
DTSTART;TZID=GMT:20160907T000000
SUMMARY:Leger des Heils
DESCRIPTION:Solo sound
LOCATION:Leger des Heils\, Johan M. Coenenstraat 2\, Amsterdam\, 
END:VEVENT
END:VCALENDAR
