BEGIN:VCALENDAR
VERSION:2.0
PRODID:-//AudioTheme 2.3.2
BEGIN:VEVENT
UID:urn:uuid:9ab5d21f-36a0-4685-8e0b-28326a40025d
URL:https://carly-e.com/shows/legends-dinner-carly-e-show-2/
DTSTART;TZID=GMT:20200613T000000
SUMMARY:Legends | Dinner show
DESCRIPTION:Solo sound. 2 shows per night. 
LOCATION:Legends\, De Grent 24\, Noordwijk\, 
END:VEVENT
END:VCALENDAR
