BEGIN:VCALENDAR
VERSION:2.0
PRODID:-//AudioTheme 2.3.2
BEGIN:VEVENT
UID:urn:uuid:9551e7eb-2612-4733-91bd-d5c43aaca613
URL:https://carly-e.com/shows/leef-in-de-straat-festival/
DTSTART;TZID=GMT:20170617T000000
SUMMARY:Leef in de Straat Festival
DESCRIPTION:Solo sound
LOCATION:Leef in de straat Festival\, Ruinerbrink\, Bargeres\, Emmen\, 
END:VEVENT
END:VCALENDAR
