BEGIN:VCALENDAR
VERSION:2.0
PRODID:-//AudioTheme 2.3.2
BEGIN:VEVENT
UID:urn:uuid:a0d2fa67-86a3-4dad-bcb6-55df6c30686b
URL:https://carly-e.com/shows/kunstkijkdagen/
DTSTART;VALUE=DATE:20180804
SUMMARY:Kunstkijkdagen
DESCRIPTION:Carly E. & her Band
LOCATION:Goedereede\, Goedereede\, 
END:VEVENT
END:VCALENDAR
