BEGIN:VCALENDAR
VERSION:2.0
PRODID:-//AudioTheme 2.3.2
BEGIN:VEVENT
UID:urn:uuid:b3bd8edd-1b7d-4ce3-8fda-0f7158ad26b8
URL:https://carly-e.com/shows/kleinkunstavond-de-verbroederij/
DTSTART;TZID=GMT:20221124T000000
SUMMARY:Kleinkunstavond | De Verbroederij
DESCRIPTION:Kleinkunst solo (NL)
LOCATION:De VerbroederIJ\, Johan van Hasseltweg 21\, Amsterdam\, 
END:VEVENT
END:VCALENDAR
