BEGIN:VCALENDAR
VERSION:2.0
PRODID:-//AudioTheme 2.3.2
BEGIN:VEVENT
UID:urn:uuid:8607c8dc-a1a8-4840-a254-48c1531b0566
URL:https://carly-e.com/shows/kleedkamerfestival-theater-orpheus/
DTSTART;TZID=GMT:20191025T000000
SUMMARY:Kleedkamerfestival | Theater Orpheus
DESCRIPTION:Solo sound
LOCATION:Theater Orpheus\, Churchillplein 1\, Apeldoorn\, 
END:VEVENT
END:VCALENDAR
