BEGIN:VCALENDAR
VERSION:2.0
PRODID:-//AudioTheme 2.3.2
BEGIN:VEVENT
UID:urn:uuid:5e3facd2-229a-4782-b37e-acf82f38c591
URL:https://carly-e.com/shows/jamboree/
DTSTART;TZID=GMT:20170527T000000
SUMMARY:Jamboree
DESCRIPTION:Solo sound
LOCATION:Jamboree\, London\, 
END:VEVENT
END:VCALENDAR
