BEGIN:VCALENDAR
VERSION:2.0
PRODID:-//AudioTheme 2.3.2
BEGIN:VEVENT
UID:urn:uuid:b1bb5e75-27f0-43b4-b6b2-d9bc80fc0c74
URL:https://carly-e.com/shows/humanity-dinner-rode-kruis/
DTSTART;TZID=GMT:20170925T000000
SUMMARY:Humanity dinner Rode Kruis
DESCRIPTION:Solo sound
LOCATION:Hotel Sofitel Legend the Grand Amsterdam\, Oudezijds Voorburgwal 197\, Amsterdam\, 
END:VEVENT
END:VCALENDAR
