BEGIN:VCALENDAR
VERSION:2.0
PRODID:-//AudioTheme 2.3.2
BEGIN:VEVENT
UID:urn:uuid:5c7ab0de-1236-402b-b13a-a2a2633ed5de
URL:https://carly-e.com/shows/horizontoer/
DTSTART;TZID=GMT:20170807T000000
SUMMARY:Horizontoer
DESCRIPTION:Masterclass Eefje de Visser. With Horizontoer band. 
LOCATION:De Vijfpoort\, Terschelling\, 
END:VEVENT
END:VCALENDAR
