BEGIN:VCALENDAR
VERSION:2.0
PRODID:-//AudioTheme 2.3.2
BEGIN:VEVENT
UID:urn:uuid:761e7796-53e0-4d52-85b6-7e69efd3c5ca
URL:https://carly-e.com/shows/horizontoer-2/
DTSTART;VALUE=DATE:20170805
SUMMARY:Horizontoer
DESCRIPTION:Masterclass Eefje de Visser. With band. 
LOCATION:De Compagnie\, Texel\, 
END:VEVENT
END:VCALENDAR
