BEGIN:VCALENDAR
VERSION:2.0
PRODID:-//AudioTheme 2.3.2
BEGIN:VEVENT
UID:urn:uuid:dff6c13d-e774-46c7-a149-796e20419d84
URL:https://carly-e.com/shows/het-muzieklokaal-album-release-tour-natural/
DTSTART;TZID=GMT:20241013T000000
SUMMARY:Het Muzieklokaal | Album Release Tour "Natural"
DESCRIPTION:Neo classical album tour
LOCATION:Het Muzieklokaal\, Bemuurde Weerd OZ 13\, Utrecht\, 
END:VEVENT
END:VCALENDAR
