BEGIN:VCALENDAR
VERSION:2.0
PRODID:-//AudioTheme 2.3.2
BEGIN:VEVENT
UID:urn:uuid:baa1727b-ae60-4427-ad16-b8d8aea02ff6
URL:https://carly-e.com/shows/heroine/
DTSTART;TZID=GMT:20160825T000000
SUMMARY:Heroïne
DESCRIPTION:Acoustic sound 
LOCATION:De Nieuwe Anita\, Frederik Hendrikstraat 111\,\, Amsterdam\, 
END:VEVENT
END:VCALENDAR
