BEGIN:VCALENDAR
VERSION:2.0
PRODID:-//AudioTheme 2.3.2
BEGIN:VEVENT
UID:urn:uuid:524171d7-ad61-4b51-b98c-2c33054ad15e
URL:https://carly-e.com/shows/hendricks-orbium-launch-fort-bij-nigtevecht/
DTSTART;VALUE=DATE:20181023
SUMMARY:Hendrick's Orbium Launch @Fort bij Nigtevecht
DESCRIPTION:Instrumental solo sound
LOCATION:Fort bij Nigtevecht\, Abcoude\, 
END:VEVENT
END:VCALENDAR
