BEGIN:VCALENDAR
VERSION:2.0
PRODID:-//AudioTheme 2.3.2
BEGIN:VEVENT
UID:urn:uuid:952e1896-150a-48eb-a16d-8f9a76af63ac
URL:https://carly-e.com/shows/gigstarter-cafe/
DTSTART;TZID=GMT:20161014T000000
SUMMARY:Gigstarter Café
DESCRIPTION:Solo sound
LOCATION:Gigstarter\, Paleisstraat 107\, Amsterdam\, 
END:VEVENT
END:VCALENDAR
