BEGIN:VCALENDAR
VERSION:2.0
PRODID:-//AudioTheme 2.3.2
BEGIN:VEVENT
UID:urn:uuid:39ec560f-3840-4694-a889-e94a3f72cab4
URL:https://carly-e.com/shows/gigstarter-cafe-2/
DTSTART;TZID=GMT:20160115T000000
SUMMARY:Gigstarter Café
DESCRIPTION:Solo sound
LOCATION:Gigstarter\, Paleisstraat 107\, Amsterdam\, 
END:VEVENT
END:VCALENDAR
